BEGIN:VCALENDAR
VERSION:2.0
PRODID:-//ical.marudot.com//iCal Event Maker
CALSCALE:GREGORIAN
BEGIN:VTIMEZONE
TZID:America/New_York
LAST-MODIFIED:20250410T142247Z
TZURL:https://www.tzurl.org/zoneinfo-outlook/America/New_York
X-LIC-LOCATION:America/New_York
BEGIN:DAYLIGHT
TZNAME:EDT
TZOFFSETFROM:-0500
TZOFFSETTO:-0400
DTSTART:19700308T020000
RRULE:FREQ=YEARLY;BYMONTH=3;BYDAY=2SU
END:DAYLIGHT
BEGIN:STANDARD
TZNAME:EST
TZOFFSETFROM:-0400
TZOFFSETTO:-0500
DTSTART:19701101T020000
RRULE:FREQ=YEARLY;BYMONTH=11;BYDAY=1SU
END:STANDARD
END:VTIMEZONE
BEGIN:VEVENT
DTSTAMP:20251222T181632Z
UID:1766002839490-73971@ical.marudot.com
DTSTART;TZID=America/New_York:20260212T083000
DTEND;TZID=America/New_York:20260212T120000
SUMMARY:Employer Product Advisory Council (EPAC) event
DESCRIPTION:Join Priority Health for our Employer Product Advisory Council (EPAC) event. EPAC is an exclusive\, invite-only group of innovative employers who come together to learn more and discuss the health care industry and provide feedback on solution development. It’s all about making sure what we create truly works for the people who use it – like you and your employees! \n\nLook out for an email with everything you need to know\, including parking\, before the event.
LOCATION:Corewell Health Place\, 100 Corewell Dr NW\, Grand Rapids\, MI 49503
TRANSP:OPAQUE
X-MICROSOFT-CDO-BUSYSTATUS:OOF
CLASS:PRIVATE
BEGIN:VALARM
ACTION:DISPLAY
DESCRIPTION:Employer Product Advisory Council (EPAC) event
TRIGGER:-PT1H
END:VALARM
BEGIN:VALARM
ACTION:DISPLAY
DESCRIPTION:Employer Product Advisory Council (EPAC) event
TRIGGER:-P1D
END:VALARM
END:VEVENT
END:VCALENDAR