BEGIN:VCALENDAR
VERSION:2.0
PRODID:-//ical.marudot.com//iCal Event Maker
CALSCALE:GREGORIAN
BEGIN:VTIMEZONE
TZID:America/New_York
LAST-MODIFIED:20240422T053451Z
TZURL:https://www.tzurl.org/zoneinfo-outlook/America/New_York
X-LIC-LOCATION:America/New_York
BEGIN:DAYLIGHT
TZNAME:EDT
TZOFFSETFROM:-0500
TZOFFSETTO:-0400
DTSTART:19700308T020000
RRULE:FREQ=YEARLY;BYMONTH=3;BYDAY=2SU
END:DAYLIGHT
BEGIN:STANDARD
TZNAME:EST
TZOFFSETFROM:-0400
TZOFFSETTO:-0500
DTSTART:19701101T020000
RRULE:FREQ=YEARLY;BYMONTH=11;BYDAY=1SU
END:STANDARD
END:VTIMEZONE
BEGIN:VEVENT
DTSTAMP:20250819T155014Z
UID:1755618339358-40855@ical.marudot.com
DTSTART;TZID=America/New_York:20250925T130000
DTEND;TZID=America/New_York:20250925T150000
SUMMARY:2026 Priority Health Small Group Agent Training
DESCRIPTION:Connect with fellow small group agents and the Priority Health small group sales team as we bring our annual webinar to the big screen. Enjoy popcorn\, networking\, and a unique viewing experience you won’t want to miss!
LOCATION:Please refer back to your confirmation email for the event location.
TRANSP:OPAQUE
X-MICROSOFT-CDO-BUSYSTATUS:OOF
CLASS:PRIVATE
BEGIN:VALARM
ACTION:DISPLAY
DESCRIPTION:2026 Priority Health Small Group Agent Training
TRIGGER:-P2D
END:VALARM
BEGIN:VALARM
ACTION:DISPLAY
DESCRIPTION:2026 Priority Health Small Group Agent Training
TRIGGER:-PT2H
END:VALARM
END:VEVENT
END:VCALENDAR